BEGIN:VCALENDAR
VERSION:2.0
PRODID:-//Paradise Oaks RV Resort - ECPv6.15.20//NONSGML v1.0//EN
CALSCALE:GREGORIAN
METHOD:PUBLISH
X-WR-CALNAME:Paradise Oaks RV Resort
X-ORIGINAL-URL:https://www.paradiseoaksrv.com
X-WR-CALDESC:Events for Paradise Oaks RV Resort
REFRESH-INTERVAL;VALUE=DURATION:PT1H
X-Robots-Tag:noindex
X-PUBLISHED-TTL:PT1H
BEGIN:VTIMEZONE
TZID:America/New_York
BEGIN:DAYLIGHT
TZOFFSETFROM:-0500
TZOFFSETTO:-0400
TZNAME:EDT
DTSTART:20250309T070000
END:DAYLIGHT
BEGIN:STANDARD
TZOFFSETFROM:-0400
TZOFFSETTO:-0500
TZNAME:EST
DTSTART:20251102T060000
END:STANDARD
BEGIN:DAYLIGHT
TZOFFSETFROM:-0500
TZOFFSETTO:-0400
TZNAME:EDT
DTSTART:20260308T070000
END:DAYLIGHT
BEGIN:STANDARD
TZOFFSETFROM:-0400
TZOFFSETTO:-0500
TZNAME:EST
DTSTART:20261101T060000
END:STANDARD
BEGIN:DAYLIGHT
TZOFFSETFROM:-0500
TZOFFSETTO:-0400
TZNAME:EDT
DTSTART:20270314T070000
END:DAYLIGHT
BEGIN:STANDARD
TZOFFSETFROM:-0400
TZOFFSETTO:-0500
TZNAME:EST
DTSTART:20271107T060000
END:STANDARD
END:VTIMEZONE
BEGIN:VEVENT
DTSTART;TZID=America/New_York:20260416T000000
DTEND;TZID=America/New_York:20260416T235959
DTSTAMP:20260422T042121
CREATED:20260321T113305Z
LAST-MODIFIED:20260416T160448Z
UID:10004739-1776297600-1776383999@www.paradiseoaksrv.com
SUMMARY:Library open 24/7\, next to pool
DESCRIPTION:A nice variety of books to read\, exchange and share with others- Open Daily (located in room by pool restrooms)
URL:https://www.paradiseoaksrv.com/event/library-open-24-7-next-to-pool-487/
LOCATION:Next to pool house restrooms (old laundry room)
END:VEVENT
BEGIN:VEVENT
DTSTART;TZID=America/New_York:20260416T053000
DTEND;TZID=America/New_York:20260416T080000
DTSTAMP:20260422T042121
CREATED:20260322T114949Z
LAST-MODIFIED:20260405T133505Z
UID:10004743-1776317400-1776326400@www.paradiseoaksrv.com
SUMMARY:Men's Coffee\, Mon-Sat\, 5:30-8:00\, Community Center
DESCRIPTION:Early Morning Men’s Coffee\, Mon – Sat\, 5:30-8:00\, at the Community Center
URL:https://www.paradiseoaksrv.com/event/mens-coffee-mon-sat-530-800-community-center-193/
LOCATION:Community Center
END:VEVENT
BEGIN:VEVENT
DTSTART;TZID=America/New_York:20260416T090000
DTEND;TZID=America/New_York:20260416T100000
DTSTAMP:20260422T042121
CREATED:20260322T114950Z
LAST-MODIFIED:20260415T154652Z
UID:10004744-1776330000-1776333600@www.paradiseoaksrv.com
SUMMARY:Shuffle Board\, Monday- Saturday\, 9am
DESCRIPTION:Bring your friends along for Shuffle Board\, Mon-Sat\, 9am at the shuffle board courts
URL:https://www.paradiseoaksrv.com/event/shuffle-board-monday-saturday-9am-388/
LOCATION:Shuffle Board Courts
END:VEVENT
BEGIN:VEVENT
DTSTART;TZID=America/New_York:20260416T093000
DTEND;TZID=America/New_York:20260416T103000
DTSTAMP:20260422T042121
CREATED:20260322T114951Z
LAST-MODIFIED:20260327T123220Z
UID:10004745-1776331800-1776335400@www.paradiseoaksrv.com
SUMMARY:Garden Club\, Thursday's\, 9:30\, at the Greenhouse
DESCRIPTION:Love to Garden? Join the garden group on Thursday’s at 9:30\, located at the Greenhouse
URL:https://www.paradiseoaksrv.com/event/garden-club-thursdays-930-at-the-greenhouse-24/
LOCATION:The Greenhouse
END:VEVENT
BEGIN:VEVENT
DTSTART;TZID=America/New_York:20260416T100000
DTEND;TZID=America/New_York:20260416T130000
DTSTAMP:20260422T042121
CREATED:20260323T114847Z
LAST-MODIFIED:20260403T133312Z
UID:10004751-1776333600-1776344400@www.paradiseoaksrv.com
SUMMARY:Park Homes Open House\, Mon - Sat\, 10am-1pm\, Q09
DESCRIPTION:Our Park Model Sales Team will be located at Q09\, Monday through Saturday from 10am-1pm\, they can answer all your questions regarding our Beautiful  New Homes for sale\, also appointments available outside of regular hours\nJoin with Google Meet: https://meet.google.com/awo-tyxt-ttn\nLearn more about Meet at: https://support.google.com/a/users/answer/9282720
URL:https://www.paradiseoaksrv.com/event/park-homes-open-house-mon-sat-10am-1pm-q09-88/
LOCATION:Q09
END:VEVENT
BEGIN:VEVENT
DTSTART;TZID=America/New_York:20260416T100000
DTEND;TZID=America/New_York:20260416T130000
DTSTAMP:20260422T042121
CREATED:20260404T133231Z
LAST-MODIFIED:20260416T160449Z
UID:10004953-1776333600-1776344400@www.paradiseoaksrv.com
SUMMARY:Park Homes Open House\, Mon\, Tue\, Thu\, Fri & Sat\, 10am-1pm\, Q09
DESCRIPTION:Our Park Model Sales Team will be located at Q09\, Mon\, Tue\, Thu\, Fri\, & Sat\, from 10am-1pm\, they can answer all your questions regarding our Beautiful  New Homes for sale\, also appointments available outside of regular hours\nJoin with Google Meet: https://meet.google.com/hyb-epba-tum\nLearn more about Meet at: https://support.google.com/a/users/answer/9282720
URL:https://www.paradiseoaksrv.com/event/park-homes-open-house-mon-tue-thu-fri-sat-10am-1pm-q09-9/
LOCATION:Q09
END:VEVENT
BEGIN:VEVENT
DTSTART;TZID=America/New_York:20260416T101500
DTEND;TZID=America/New_York:20260416T110000
DTSTAMP:20260422T042121
CREATED:20260323T114844Z
LAST-MODIFIED:20260413T152347Z
UID:10004748-1776334500-1776337200@www.paradiseoaksrv.com
SUMMARY:Chair Yoga\, 10:15am\, Mondays & Thursdays in the Barn
DESCRIPTION:Join Patty for  Mondays Chair Yoga & Thursdays in the Barn at 10:15am
URL:https://www.paradiseoaksrv.com/event/chair-yoga-1015am-mondays-thursdays-in-the-barn-48/
LOCATION:The Barn
END:VEVENT
BEGIN:VEVENT
DTSTART;TZID=America/New_York:20260416T103000
DTEND;TZID=America/New_York:20260416T130000
DTSTAMP:20260422T042121
CREATED:20260322T114952Z
LAST-MODIFIED:20260416T160448Z
UID:10004746-1776335400-1776344400@www.paradiseoaksrv.com
SUMMARY:RC Racing\, Tuesdays & Thursdays\, 10:30am\, RC Track
DESCRIPTION:Time to go Racing! Every Tuesday & Thursday\, starts at 10:30 – 1:00pm  at the RC Track
URL:https://www.paradiseoaksrv.com/event/rc-racing-tuesdays-thursdays-1030am-rc-track-48/
LOCATION:RC Track
END:VEVENT
BEGIN:VEVENT
DTSTART;TZID=America/New_York:20260416T130000
DTEND;TZID=America/New_York:20260416T150000
DTSTAMP:20260422T042121
CREATED:20260323T114845Z
LAST-MODIFIED:20260416T160449Z
UID:10004749-1776344400-1776351600@www.paradiseoaksrv.com
SUMMARY:Mexican Train\, Thursdays 1-3pm\, The Barn
DESCRIPTION:Time for Mexican Train\, 1-3pm in the Barn
URL:https://www.paradiseoaksrv.com/event/mexican-train-thursdays-1-3pm-the-barn-25/
LOCATION:The Barn
END:VEVENT
BEGIN:VEVENT
DTSTART;TZID=America/New_York:20260416T130000
DTEND;TZID=America/New_York:20260416T150000
DTSTAMP:20260422T042121
CREATED:20260323T114846Z
LAST-MODIFIED:20260403T133312Z
UID:10004750-1776344400-1776351600@www.paradiseoaksrv.com
SUMMARY:Cross Stitch Group\, Thursdays\, 1-3pm\, Community Center
DESCRIPTION:Do you like to Cross Stitch? Join the Cross Stitch Group\, Thursday’s 1-3pm in the Community Center
URL:https://www.paradiseoaksrv.com/event/cross-stitch-group-thursdays-1-3pm-community-center-41/
LOCATION:Community Center
END:VEVENT
BEGIN:VEVENT
DTSTART;TZID=America/New_York:20260416T140000
DTEND;TZID=America/New_York:20260416T153000
DTSTAMP:20260422T042121
CREATED:20260322T114952Z
LAST-MODIFIED:20260406T135001Z
UID:10004747-1776348000-1776353400@www.paradiseoaksrv.com
SUMMARY:Beach Tennis\, Thursdays\, 2:00-3:30\, Beach Tennis Court
DESCRIPTION:Join us for Beach Tennis\, every Thursday\, 2:00-3:30 at the Beach Tennis Courts located in the field beside the Farmhouse\, equipment is provided\, feel free to play anytime as well
URL:https://www.paradiseoaksrv.com/event/beach-tennis-thursdays-200-330-beach-tennis-court-19/
LOCATION:Beach Tennis Court
END:VEVENT
BEGIN:VEVENT
DTSTART;TZID=America/New_York:20260416T180000
DTEND;TZID=America/New_York:20260416T210000
DTSTAMP:20260422T042121
CREATED:20260323T114849Z
LAST-MODIFIED:20260407T140302Z
UID:10004752-1776362400-1776373200@www.paradiseoaksrv.com
SUMMARY:Euchre\, 6:00 to 9:30 pm\, Rec Hall
DESCRIPTION:Join us for Euchre \, Sign up at 5:45pm \, Games start at 6:00  Everyone welcome!!$2 to play and bring some dimes. Rec Hall
URL:https://www.paradiseoaksrv.com/event/euchre-600-to-930-pm-rec-hall-57/
LOCATION:Rec Hall\, 1 N Burrowes St\, University Park\, PA\, United States
GEO:40.792705;-77.863912
X-APPLE-STRUCTURED-LOCATION;VALUE=URI;X-ADDRESS=Rec Hall 1 N Burrowes St University Park PA United States;X-APPLE-RADIUS=500;X-TITLE=1 N Burrowes St:geo:-77.863912,40.792705
END:VEVENT
BEGIN:VEVENT
DTSTART;TZID=America/New_York:20260416T180000
DTEND;TZID=America/New_York:20260416T210000
DTSTAMP:20260422T042121
CREATED:20260324T120407Z
LAST-MODIFIED:20260416T160449Z
UID:10004756-1776362400-1776373200@www.paradiseoaksrv.com
SUMMARY:High Stakes Texas Hold'em\, 6-9pm\, @ Annex
DESCRIPTION:Join us for Texas Hold’em\, Thursdays\, 6-9pm\, in the Annex\, $11. buy in\, $1. optional high hand buy in. Everyone Welcome!
URL:https://www.paradiseoaksrv.com/event/high-stakes-texas-holdem-6-9pm-annex-70/
LOCATION:Annex
END:VEVENT
BEGIN:VEVENT
DTSTART;TZID=America/New_York:20260416T180000
DTEND;TZID=America/New_York:20260416T210000
DTSTAMP:20260422T042121
CREATED:20260408T141844Z
LAST-MODIFIED:20260416T160449Z
UID:10005047-1776362400-1776373200@www.paradiseoaksrv.com
SUMMARY:Euchre\, 6:00 to 9:30 pm\, Community Center
DESCRIPTION:Join us for Euchre \, Sign up at 5:45pm \, Games start at 6:00  Everyone welcome!!$2 to play and bring some dimes. Community Center
URL:https://www.paradiseoaksrv.com/event/euchre-600-to-930-pm-community-center-33/
LOCATION:Community Center
END:VEVENT
BEGIN:VEVENT
DTSTART;TZID=America/New_York:20260416T183000
DTEND;TZID=America/New_York:20260416T203000
DTSTAMP:20260422T042121
CREATED:20260402T133130Z
LAST-MODIFIED:20260412T150600Z
UID:10004899-1776364200-1776371400@www.paradiseoaksrv.com
SUMMARY:Euchre\, Thursday\, 6:30\, The Barn
DESCRIPTION:Bring your Friends for Euchre\, Thursdays in the Barn at 6:30
URL:https://www.paradiseoaksrv.com/event/euchre-thursday-630-the-barn-3/
LOCATION:The Barn
END:VEVENT
END:VCALENDAR